

BEGIN:VCALENDAR
VERSION:2.0
PRODID:-//203.19.190.11//NONSGML kigkonsult.se iCalcreator 2.16.1//
CALSCALE:GREGORIAN
METHOD:PUBLISH
X-WR-CALNAME:Diamantina Health Partners
X-WR-CALDESC:Queensland&#039\;s first academic health science centre
X-FROM-URL:http://www.diamantina.org.au
X-WR-TIMEZONE:Australia/Brisbane
BEGIN:VTIMEZONE
TZID:Australia/Brisbane
X-LIC-LOCATION:Australia/Brisbane
BEGIN:STANDARD
DTSTART:19920301T030000
TZOFFSETFROM:+1100
TZOFFSETTO:+1000
TZNAME:EST
END:STANDARD
END:VTIMEZONE
BEGIN:VEVENT
UID:http://www.diamantina.org.au/?post_type=ai1ec_event&#038\;p=599&#038\;i
 nstance_id=
DTSTAMP:20190228T231524Z
CONTACT:
DESCRIPTION:<p>Brenda Rosser will be presenting on the PA Research Monitori
 ng Program.</p>
DTSTART;TZID=Australia/Brisbane:20130926T120000
DTEND;TZID=Australia/Brisbane:20130926T130000
LOCATION:Princess Alexandra Hospital\, main building\, level 1\, Bryan Emme
 rson seminar room @ 199 Ipswich Road\, Woolloongabba QLD 4102\, Australia
SUMMARY:Centres for Health Research Lunch ‘n’ Learn Seminar
URL:http://www.diamantina.org.au/ai1ec_event/centres-for-health-research-lu
 nch-n-learn-seminar/?instance_id=
END:VEVENT
END:VCALENDAR
