

BEGIN:VCALENDAR
VERSION:2.0
PRODID:-//203.19.190.11//NONSGML kigkonsult.se iCalcreator 2.16.1//
CALSCALE:GREGORIAN
METHOD:PUBLISH
X-WR-CALNAME:Diamantina Health Partners
X-WR-CALDESC:Queensland&#039\;s first academic health science centre
X-FROM-URL:http://www.diamantina.org.au
X-WR-TIMEZONE:Australia/Brisbane
BEGIN:VTIMEZONE
TZID:Australia/Brisbane
X-LIC-LOCATION:Australia/Brisbane
BEGIN:STANDARD
DTSTART:19920301T030000
TZOFFSETFROM:+1100
TZOFFSETTO:+1000
TZNAME:EST
END:STANDARD
END:VTIMEZONE
BEGIN:VEVENT
UID:http://www.diamantina.org.au/?post_type=ai1ec_event&#038\;p=1073&#038\;
 instance_id=
DTSTAMP:20190228T230354Z
CONTACT:
DESCRIPTION:<p><span style='color: #3f98c4\;'><strong>Diamantina Health Par
 tners Metabolic Research Collaborative debate:</strong></span></p>\n<p><st
 rong><span style='color: #92c83e\;'>“Exercise vs diet – which is more effe
 ctive for weight management?”</span></strong></p>\n<p>Professor Jeff Coomb
 es (Exercise Science Group) and Dr Marina Reeves (Nutrition & Dietetics Gr
 oup) will lead the debate.</p>\n<p>The meeting will be held at the TRI Lev
 el 2 Seminar Room (2004) from 8:15am to 9:15am.</p>\n<p> </p>
DTSTART;TZID=Australia/Brisbane:20140227T081500
DTEND;TZID=Australia/Brisbane:20140227T091500
LOCATION:Translational Research Institute @ 37 Kent Street\, Woolloongabba 
 QLD 4102\, Australia
SUMMARY:“Exercise vs diet – which is more effective for weight management?”
URL:http://www.diamantina.org.au/ai1ec_event/exercise-vs-diet-which-is-more
 -effective-for-weight-management/?instance_id=
END:VEVENT
END:VCALENDAR
