

BEGIN:VCALENDAR
VERSION:2.0
PRODID:-//203.19.190.11//NONSGML kigkonsult.se iCalcreator 2.16.1//
CALSCALE:GREGORIAN
METHOD:PUBLISH
X-WR-CALNAME:Diamantina Health Partners
X-WR-CALDESC:Queensland&#039\;s first academic health science centre
X-FROM-URL:http://www.diamantina.org.au
X-WR-TIMEZONE:Australia/Brisbane
BEGIN:VTIMEZONE
TZID:Australia/Brisbane
X-LIC-LOCATION:Australia/Brisbane
BEGIN:STANDARD
DTSTART:19920301T030000
TZOFFSETFROM:+1100
TZOFFSETTO:+1000
TZNAME:EST
END:STANDARD
END:VTIMEZONE
BEGIN:VEVENT
UID:http://www.diamantina.org.au/?post_type=ai1ec_event&#038\;p=1768&#038\;
 instance_id=
DTSTAMP:20190228T225847Z
CONTACT:Aowen Zhuang\; 3443 7678\; azhuang@mmri.mater.org.au
DESCRIPTION:<p><strong>Metabolic Research Collaborative Meeting</strong></p
 >\n<p>Chair: Prof. Ken Ho</p>\n<p>Dr Viral Chikani -<em> “Effects of GH on
  Anaerobic Exercise Capacity in Adults with GH Deficiency: A Double Blind 
 Placebo Controlled Trial”</em></p>\n<p>When:   8.15am – 8.45am\, Thursday 
 14 August 2014</p>\n<p>Where:  Seminar Room 2004\, Level 2\, Translational
  Research Institute</p>
DTSTART;TZID=Australia/Brisbane:20140814T081500
DTEND;TZID=Australia/Brisbane:20140814T084500
LOCATION:Seminar Room 2004\, Level 2\, TRI @ 37 Kent Street\, Woolloongabba
  QLD 4102\, Australia
SUMMARY:Metabolic Research Collaborative Meeting – “Effects of GH on Anaero
 bic Exercise Capacity in Adults with GH Deficiency: A Double Blind Placebo
  Controlled Trial”
URL:http://www.diamantina.org.au/ai1ec_event/dhp-metabolic-research-collabo
 rative-meeting-6/?instance_id=
END:VEVENT
END:VCALENDAR
