

BEGIN:VCALENDAR
VERSION:2.0
PRODID:-//203.19.190.11//NONSGML kigkonsult.se iCalcreator 2.16.1//
CALSCALE:GREGORIAN
METHOD:PUBLISH
X-WR-CALNAME:Diamantina Health Partners
X-WR-CALDESC:Queensland&#039\;s first academic health science centre
X-FROM-URL:http://www.diamantina.org.au
X-WR-TIMEZONE:Australia/Brisbane
BEGIN:VTIMEZONE
TZID:Australia/Brisbane
X-LIC-LOCATION:Australia/Brisbane
BEGIN:STANDARD
DTSTART:19920301T030000
TZOFFSETFROM:+1100
TZOFFSETTO:+1000
TZNAME:EST
END:STANDARD
END:VTIMEZONE
BEGIN:VEVENT
UID:http://www.diamantina.org.au/?post_type=ai1ec_event&#038\;p=1763&#038\;
 instance_id=
DTSTAMP:20190228T225719Z
CONTACT:
DESCRIPTION:<p><strong>Metabolic Research Collaborative Meeting</strong></p
 >\n<p>Dr Stephen Mattarollo -<em> “Eliciting immunity against B cell lymph
 omas by combination immunotherapy”</em></p>\n<p>When:   8.15am – 9.15am\, 
 Thursday 31 July 2014</p>\n<p>Where:  Seminar Room 2004\, Level 2\, Transl
 ational Research Institute</p>
DTSTART;TZID=Australia/Brisbane:20140731T081500
DTEND;TZID=Australia/Brisbane:20140731T091500
LOCATION:TRI @ 37 Kent Street\, Woolloongabba QLD 4102\, Australia
SUMMARY:DHP Metabolic Research Collaborative Meeting – “Eliciting immunity 
 against B cell lymphomas by combination immunotherapy”
URL:http://www.diamantina.org.au/ai1ec_event/dhp-metabolic-research-collabo
 rative-meeting-eliciting-immunity-against-b-cell-lymphomas-by-combination-
 immunotherapy/?instance_id=
END:VEVENT
END:VCALENDAR
